BEGIN:VCALENDAR
VERSION:2.0
PRODID:-//Ministerio Redil - ECPv6.15.17.1//NONSGML v1.0//EN
CALSCALE:GREGORIAN
METHOD:PUBLISH
X-WR-CALNAME:Ministerio Redil
X-ORIGINAL-URL:https://redilglobal.org
X-WR-CALDESC:Eventos para Ministerio Redil
REFRESH-INTERVAL;VALUE=DURATION:PT1H
X-Robots-Tag:noindex
X-PUBLISHED-TTL:PT1H
BEGIN:VTIMEZONE
TZID:America/Bogota
BEGIN:STANDARD
TZOFFSETFROM:-0500
TZOFFSETTO:-0500
TZNAME:-05
DTSTART:20240101T000000
END:STANDARD
END:VTIMEZONE
BEGIN:VEVENT
DTSTART;VALUE=DATE:20251011
DTEND;VALUE=DATE:20251013
DTSTAMP:20260422T092217
CREATED:20250920T191345Z
LAST-MODIFIED:20251001T175402Z
UID:10000132-1760140800-1760313599@redilglobal.org
SUMMARY:Succot Medellín
DESCRIPTION:El 11 y 12 de octubre\, de 9:00 a.m. a 5:00 p.m.\, Medellín será escenario de un tiempo profético sin precedentes en el marco del Movimiento Resplandece. \nSucot no es solo una fiesta\, es un tiempo señalado por Dios en el que Su voz retumba para recordar a Su pueblo:\n🌿 Que Él es nuestro refugio y nuestra morada eterna.\n🌿 Que el gozo y la abundancia son fruto de Su pacto de fidelidad.\n🌿 Que las lluvias tempranas y tardías llegan para multiplicar la cosecha.\n🌿 Que Su gloria se manifiesta en medio de la alabanza y la unidad.\n🌿 Que Su tabernáculo se establece en medio de las naciones. \nEn Medellín se levantará una mesa de gobierno profética\, desde donde el Señor alineará los tiempos y establecerá Su voluntad a plenitud sobre Colombia. Este será un acto de trascendencia espiritual: decretos\, palabras y juicios rectos emanarán para abrir camino a lo nuevo que Dios trae sobre nuestra nación. \nAdemás\, el cielo soltará sonidos de liberación\, haciendo que la voz profética en Colombia sea desatada con más fuerza\, autoridad y claridad. Será un tiempo de celebración gloriosa y de labranza explosiva\, donde cada intercesor\, salmista y profeta será afirmado en su llamado y activado para alumbrar los territorios con la luz de Cristo. \n🔥 Prepárate para celebrar\, adorar\, danzar\, profetizar y sembrar en la presencia del Rey.\nEn Medellín veremos Su gloria manifestarse\, y desde esta ciudad el rugido de Dios resonará para toda Colombia y las naciones. \nNota: La donación para esta convocatoria solo se puede realizar en COP (pesos colombianos).
URL:https://redilglobal.org/event/succot-medellin/
LOCATION:Medellín\, Trasversal 34asur #33A- 50 Centro AtardeSer. ZONA.9 queda en envigado\, Medellín\, Antioquia\, Colombia
CATEGORIES:Convocatoria de Succot
ORGANIZER;CN="Ministerio Redil":MAILTO:contacto@redilglobal.org
END:VEVENT
END:VCALENDAR